BEGIN:VCALENDAR
VERSION:2.0
PRODID:-//Wizards Collection Rosebank - ECPv6.15.17//NONSGML v1.0//EN
CALSCALE:GREGORIAN
METHOD:PUBLISH
X-ORIGINAL-URL:https://www.wizardscollectionrosebank.com
X-WR-CALDESC:Events for Wizards Collection Rosebank
REFRESH-INTERVAL;VALUE=DURATION:PT1H
X-Robots-Tag:noindex
X-PUBLISHED-TTL:PT1H
BEGIN:VTIMEZONE
TZID:Africa/Johannesburg
BEGIN:STANDARD
TZOFFSETFROM:+0200
TZOFFSETTO:+0200
TZNAME:SAST
DTSTART:20250101T000000
END:STANDARD
END:VTIMEZONE
BEGIN:VEVENT
DTSTART;TZID=Africa/Johannesburg:20260318T190000
DTEND;TZID=Africa/Johannesburg:20260318T220000
DTSTAMP:20260421T182232
CREATED:20260305T235420Z
LAST-MODIFIED:20260305T235420Z
UID:40624-1773860400-1773871200@www.wizardscollectionrosebank.com
SUMMARY:Pokemon Casual Tournament
DESCRIPTION:🎉 Weekly Pokémon Casual Tournament \nJoin us every Wednesday at 7 PM for a fun and casual Pokémon showdown! Test your skills\, meet fellow trainers\, and enjoy a relaxed competitive atmosphere. \nEntry Fee: R100 \nPrize Support: 1 random booster + 1 Prize Pack (subject to availability) \nWhether you’re a seasoned trainer or just starting out\, this tournament is the perfect way to battle\, trade\, and have fun. Don’t miss out on the excitement—come claim your prize and show off your deck-building skills!
URL:https://www.wizardscollectionrosebank.com/event/pokemon-casual-tournament-2/
LOCATION:Wizards Collection Rosebank\, 34 Bolton Road\, PARKWOOD\, Gauteng\, 2193\, South Africa
ATTACH;FMTTYPE=image/png:https://www.wizardscollectionrosebank.com/wp-content/uploads/2026/03/29.png
END:VEVENT
BEGIN:VEVENT
DTSTART;TZID=Africa/Johannesburg:20260318T190000
DTEND;TZID=Africa/Johannesburg:20260318T220000
DTSTAMP:20260421T182232
CREATED:20260306T000844Z
LAST-MODIFIED:20260306T000844Z
UID:40631-1773860400-1773871200@www.wizardscollectionrosebank.com
SUMMARY:Magic: The Gathering - Casual Commander
DESCRIPTION:🪄 Weekly MTG Casual Commander Night \nGather with fellow planeswalkers every Wednesday at 6 PM for a relaxed Commander night! No entry fee\, no pressure—just bring your deck\, enjoy some games\, and have fun. \nThis is the perfect chance to try out new strategies\, meet other players\, and unwind over some casual multiplayer battles. Everyone’s welcome\, whether you’re a seasoned veteran or just starting your Commander journey!
URL:https://www.wizardscollectionrosebank.com/event/magic-the-gathering-casual-commander-2/
LOCATION:Wizards Collection Rosebank\, 34 Bolton Road\, PARKWOOD\, Gauteng\, 2193\, South Africa
ATTACH;FMTTYPE=image/png:https://www.wizardscollectionrosebank.com/wp-content/uploads/2026/03/18.png
END:VEVENT
BEGIN:VEVENT
DTSTART;TZID=Africa/Johannesburg:20260321T110000
DTEND;TZID=Africa/Johannesburg:20260321T150000
DTSTAMP:20260421T182232
CREATED:20260306T000853Z
LAST-MODIFIED:20260306T000853Z
UID:40635-1774090800-1774105200@www.wizardscollectionrosebank.com
SUMMARY:Magic: The Gathering - Weekly Standard
DESCRIPTION:🎉 Weekly MTG Standard Format Tournament \nJoin us every Saturday at 11 AM for a fun and casual Standard Format showdown! Test your deck\, meet fellow planeswalkers\, and enjoy a relaxed competitive atmosphere. \nEntry Fee: R150\nPrize Support: Minimum 1 booster pack \nWhether you’re a seasoned player or just starting out\, this tournament is the perfect way to sharpen your skills\, try out new strategies\, and have fun. Don’t miss out—come battle\, connect with other players\, and claim your prize!
URL:https://www.wizardscollectionrosebank.com/event/magic-the-gathering-weekly-standard-3/
LOCATION:Wizards Collection Rosebank\, 34 Bolton Road\, PARKWOOD\, Gauteng\, 2193\, South Africa
ATTACH;FMTTYPE=image/png:https://www.wizardscollectionrosebank.com/wp-content/uploads/2026/03/19.png
END:VEVENT
BEGIN:VEVENT
DTSTART;TZID=Africa/Johannesburg:20260321T110000
DTEND;TZID=Africa/Johannesburg:20260321T170000
DTSTAMP:20260421T182232
CREATED:20260305T204950Z
LAST-MODIFIED:20260305T204950Z
UID:40580-1774090800-1774112400@www.wizardscollectionrosebank.com
SUMMARY:Pokemon TCG League Challenge
DESCRIPTION:Pokémon League Challenge \nJoin us for an exciting League Challenge at Wizards Collection Rosebank! \n📅 Date: Saturday\, 21 March 2026📍 Venue: Wizards Collection Rosebank📞 Contact: 071 170 7082📍 Location: https://maps.app.goo.gl/GLsQi7GpLZ4NPSWq7 \n🎮 Format: Standard (G block onwards) \n📝 Registration: 10:00 – 11:00🎲 Round 1 Begins: 11:15 \n💰 Entry Fee: R175 \n⏱ Tournament Format:• Best of 1 (Bo1)• Swiss rounds only• 30 minutes per round \n📄 Deck Lists RequiredPlease create and print your deck list before the event using one of the following:• https://my.limitlesstcg.com/builder• https://rk9.gg/decklist/ \nDeck list forms will also be available at the venue during registration if you need assistance completing one. \n📺 Live StreamThe tournament will be live streamed on the Wizards Collection YouTube and Twitch channels\, so friends and players can follow the action live. \n▶ YouTube: https://www.youtube.com/@WizardsCollection-sa🎥 Twitch: https://www.twitch.tv/wizardscollectionsa
URL:https://www.wizardscollectionrosebank.com/event/pokemon-tcg-league-challenge/
LOCATION:Wizards Collection Rosebank\, 34 Bolton Road\, PARKWOOD\, Gauteng\, 2193\, South Africa
ATTACH;FMTTYPE=image/png:https://www.wizardscollectionrosebank.com/wp-content/uploads/2026/03/2026-Events-1.png
END:VEVENT
BEGIN:VEVENT
DTSTART;TZID=Africa/Johannesburg:20260322T110000
DTEND;TZID=Africa/Johannesburg:20260322T110000
DTSTAMP:20260421T182232
CREATED:20260305T220651Z
LAST-MODIFIED:20260305T220651Z
UID:40618-1774177200-1774177200@www.wizardscollectionrosebank.com
SUMMARY:Weekly Board Game Day
DESCRIPTION:🎲 Wizards Collection Rosebank Weekly Board Game Day 🎲 \nLove board games? Join us every week at Wizards Collection Rosebank for a fun-filled Board Game Day! \n💰 Entry Fee: R40 per person\n🕒 Time: Play as much as you like! \nChoose from our wide collection of board games\, including:\n• Catan\n• Azul: Summer Pavilion Mini\n• Pandemic\n• Ticket to Ride\n• Flamecraft\n• Unstable Unicorns: Base Game\n• Trapwords\nEnjoy hours of strategy\, teamwork\, and friendly competition. Whether you’re a casual player or a hardcore strategist\, there’s something for everyone! \n📍 Venue: Wizards Collection Rosebank\n📞 Contact: 071 170 7082 \nBring your friends\, challenge other players\, and discover new favorites every week! 🏆
URL:https://www.wizardscollectionrosebank.com/event/weekly-board-game-day-3/
LOCATION:Wizards Collection Rosebank\, 34 Bolton Road\, PARKWOOD\, Gauteng\, 2193\, South Africa
ATTACH;FMTTYPE=image/png:https://www.wizardscollectionrosebank.com/wp-content/uploads/2026/03/2026-Events-4.png
END:VEVENT
BEGIN:VEVENT
DTSTART;TZID=Africa/Johannesburg:20260325T180000
DTEND;TZID=Africa/Johannesburg:20260325T220000
DTSTAMP:20260421T182232
CREATED:20260305T211447Z
LAST-MODIFIED:20260305T212117Z
UID:40590-1774461600-1774476000@www.wizardscollectionrosebank.com
SUMMARY:One Piece Trade & Play
DESCRIPTION:
URL:https://www.wizardscollectionrosebank.com/event/one-piece-trade-play-3/
LOCATION:Wizards Collection Rosebank\, 34 Bolton Road\, PARKWOOD\, Gauteng\, 2193\, South Africa
ATTACH;FMTTYPE=image/png:https://www.wizardscollectionrosebank.com/wp-content/uploads/2026/03/2026-Events-2.png
END:VEVENT
BEGIN:VEVENT
DTSTART;TZID=Africa/Johannesburg:20260325T190000
DTEND;TZID=Africa/Johannesburg:20260325T220000
DTSTAMP:20260421T182232
CREATED:20260305T235421Z
LAST-MODIFIED:20260305T235421Z
UID:40625-1774465200-1774476000@www.wizardscollectionrosebank.com
SUMMARY:Pokemon Casual Tournament
DESCRIPTION:🎉 Weekly Pokémon Casual Tournament \nJoin us every Wednesday at 7 PM for a fun and casual Pokémon showdown! Test your skills\, meet fellow trainers\, and enjoy a relaxed competitive atmosphere. \nEntry Fee: R100 \nPrize Support: 1 random booster + 1 Prize Pack (subject to availability) \nWhether you’re a seasoned trainer or just starting out\, this tournament is the perfect way to battle\, trade\, and have fun. Don’t miss out on the excitement—come claim your prize and show off your deck-building skills!
URL:https://www.wizardscollectionrosebank.com/event/pokemon-casual-tournament-3/
LOCATION:Wizards Collection Rosebank\, 34 Bolton Road\, PARKWOOD\, Gauteng\, 2193\, South Africa
ATTACH;FMTTYPE=image/png:https://www.wizardscollectionrosebank.com/wp-content/uploads/2026/03/29.png
END:VEVENT
BEGIN:VEVENT
DTSTART;TZID=Africa/Johannesburg:20260325T190000
DTEND;TZID=Africa/Johannesburg:20260325T220000
DTSTAMP:20260421T182232
CREATED:20260306T000845Z
LAST-MODIFIED:20260306T000845Z
UID:40632-1774465200-1774476000@www.wizardscollectionrosebank.com
SUMMARY:Magic: The Gathering - Casual Commander
DESCRIPTION:🪄 Weekly MTG Casual Commander Night \nGather with fellow planeswalkers every Wednesday at 6 PM for a relaxed Commander night! No entry fee\, no pressure—just bring your deck\, enjoy some games\, and have fun. \nThis is the perfect chance to try out new strategies\, meet other players\, and unwind over some casual multiplayer battles. Everyone’s welcome\, whether you’re a seasoned veteran or just starting your Commander journey!
URL:https://www.wizardscollectionrosebank.com/event/magic-the-gathering-casual-commander-3/
LOCATION:Wizards Collection Rosebank\, 34 Bolton Road\, PARKWOOD\, Gauteng\, 2193\, South Africa
ATTACH;FMTTYPE=image/png:https://www.wizardscollectionrosebank.com/wp-content/uploads/2026/03/18.png
END:VEVENT
BEGIN:VEVENT
DTSTART;TZID=Africa/Johannesburg:20260328T110000
DTEND;TZID=Africa/Johannesburg:20260328T150000
DTSTAMP:20260421T182232
CREATED:20260306T000854Z
LAST-MODIFIED:20260306T000854Z
UID:40636-1774695600-1774710000@www.wizardscollectionrosebank.com
SUMMARY:Magic: The Gathering - Weekly Standard
DESCRIPTION:🎉 Weekly MTG Standard Format Tournament \nJoin us every Saturday at 11 AM for a fun and casual Standard Format showdown! Test your deck\, meet fellow planeswalkers\, and enjoy a relaxed competitive atmosphere. \nEntry Fee: R150\nPrize Support: Minimum 1 booster pack \nWhether you’re a seasoned player or just starting out\, this tournament is the perfect way to sharpen your skills\, try out new strategies\, and have fun. Don’t miss out—come battle\, connect with other players\, and claim your prize!
URL:https://www.wizardscollectionrosebank.com/event/magic-the-gathering-weekly-standard-4/
LOCATION:Wizards Collection Rosebank\, 34 Bolton Road\, PARKWOOD\, Gauteng\, 2193\, South Africa
ATTACH;FMTTYPE=image/png:https://www.wizardscollectionrosebank.com/wp-content/uploads/2026/03/19.png
END:VEVENT
BEGIN:VEVENT
DTSTART;TZID=Africa/Johannesburg:20260329T110000
DTEND;TZID=Africa/Johannesburg:20260329T110000
DTSTAMP:20260421T182232
CREATED:20260305T220652Z
LAST-MODIFIED:20260305T220652Z
UID:40619-1774782000-1774782000@www.wizardscollectionrosebank.com
SUMMARY:Weekly Board Game Day
DESCRIPTION:🎲 Wizards Collection Rosebank Weekly Board Game Day 🎲 \nLove board games? Join us every week at Wizards Collection Rosebank for a fun-filled Board Game Day! \n💰 Entry Fee: R40 per person\n🕒 Time: Play as much as you like! \nChoose from our wide collection of board games\, including:\n• Catan\n• Azul: Summer Pavilion Mini\n• Pandemic\n• Ticket to Ride\n• Flamecraft\n• Unstable Unicorns: Base Game\n• Trapwords\nEnjoy hours of strategy\, teamwork\, and friendly competition. Whether you’re a casual player or a hardcore strategist\, there’s something for everyone! \n📍 Venue: Wizards Collection Rosebank\n📞 Contact: 071 170 7082 \nBring your friends\, challenge other players\, and discover new favorites every week! 🏆
URL:https://www.wizardscollectionrosebank.com/event/weekly-board-game-day-4/
LOCATION:Wizards Collection Rosebank\, 34 Bolton Road\, PARKWOOD\, Gauteng\, 2193\, South Africa
ATTACH;FMTTYPE=image/png:https://www.wizardscollectionrosebank.com/wp-content/uploads/2026/03/2026-Events-4.png
END:VEVENT
END:VCALENDAR